BEGIN:VCALENDAR
VERSION:2.0
PRODID:-//SRT - ECPv6.15.14//NONSGML v1.0//EN
CALSCALE:GREGORIAN
METHOD:PUBLISH
X-ORIGINAL-URL:https://secondary.sd42.ca/srt
X-WR-CALDESC:Events for SRT
REFRESH-INTERVAL;VALUE=DURATION:PT1H
X-Robots-Tag:noindex
X-PUBLISHED-TTL:PT1H
BEGIN:VTIMEZONE
TZID:America/Los_Angeles
BEGIN:DAYLIGHT
TZOFFSETFROM:-0800
TZOFFSETTO:-0700
TZNAME:PDT
DTSTART:20250309T100000
END:DAYLIGHT
BEGIN:STANDARD
TZOFFSETFROM:-0700
TZOFFSETTO:-0800
TZNAME:PST
DTSTART:20251102T090000
END:STANDARD
BEGIN:DAYLIGHT
TZOFFSETFROM:-0800
TZOFFSETTO:-0700
TZNAME:PDT
DTSTART:20260308T100000
END:DAYLIGHT
BEGIN:STANDARD
TZOFFSETFROM:-0700
TZOFFSETTO:-0800
TZNAME:PST
DTSTART:20261101T090000
END:STANDARD
BEGIN:DAYLIGHT
TZOFFSETFROM:-0800
TZOFFSETTO:-0700
TZNAME:PDT
DTSTART:20270314T100000
END:DAYLIGHT
BEGIN:STANDARD
TZOFFSETFROM:-0700
TZOFFSETTO:-0800
TZNAME:PST
DTSTART:20271107T090000
END:STANDARD
END:VTIMEZONE
BEGIN:VEVENT
DTSTART;VALUE=DATE:20260521
DTEND;VALUE=DATE:20260522
DTSTAMP:20260421T091823
CREATED:20250430T205934Z
LAST-MODIFIED:20250430T205934Z
UID:3430-1779321600-1779407999@secondary.sd42.ca
SUMMARY:Day 4 - FEHG
DESCRIPTION:Day 4 – FEHG
URL:https://secondary.sd42.ca/srt/event/day-4-fehg-77/
END:VEVENT
BEGIN:VEVENT
DTSTART;TZID=America/Los_Angeles:20260521T153000
DTEND;TZID=America/Los_Angeles:20260521T170000
DTSTAMP:20260421T091823
CREATED:20260408T164910Z
LAST-MODIFIED:20260408T164910Z
UID:5045-1779377400-1779382800@secondary.sd42.ca
SUMMARY:Ball Hockey SRT vs THS @ Pitt Meadows Arena
DESCRIPTION:
URL:https://secondary.sd42.ca/srt/event/ball-hockey-srt-vs-ths-pitt-meadows-arena/
END:VEVENT
BEGIN:VEVENT
DTSTART;TZID=America/Los_Angeles:20260521T173000
DTEND;TZID=America/Los_Angeles:20260521T190000
DTSTAMP:20260421T091823
CREATED:20260410T143706Z
LAST-MODIFIED:20260410T143723Z
UID:5055-1779384600-1779390000@secondary.sd42.ca
SUMMARY:SRT Drama Presents: Variations on a Theme & The Bold\, The Young and the Murdered @ Albion Community Centre
DESCRIPTION:Attention Parents\, Guardians and Drama Enthusiasts!! \nSRT is hosting their next production\, and this year we are offering a double feature. First\, is a one-act play with some of our younger students about a guy at a train station working through a breakup. And then our main performance\, a murder-mystery on the set of a soap opera! \nTickets are 10$ and we are offering two shows: Thursday May 21st and Friday May 22nd.  Tickets can also be purchased at the office for $10/each\, cash only.  Doors open @ 5:30 pm and the show starts @ 6:00 pm. \nAND this year we are lucky to once again performing at the Albion Community Centre (next to c̓əsqənelə Elementary School).  \nOnce you buy tickets\, if you can email (Eric_Driscoll@sd42.ca) the names of the attendees for our guestlist to eric_driscoll@sd42.ca\, we will make sure you’re all ready for showtime!  Tickets can also be purchased at the office for $10/each\, cash only. Thank you for supporting our SRT Drama program 🙂
URL:https://secondary.sd42.ca/srt/event/srt-drama-presents-variations-on-a-theme-the-bold-the-young-and-the-murdered/
END:VEVENT
END:VCALENDAR