BEGIN:VCALENDAR
VERSION:2.0
PRODID:-//SRT - ECPv6.15.14//NONSGML v1.0//EN
CALSCALE:GREGORIAN
METHOD:PUBLISH
X-WR-CALNAME:SRT
X-ORIGINAL-URL:https://secondary.sd42.ca/srt
X-WR-CALDESC:Events for SRT
REFRESH-INTERVAL;VALUE=DURATION:PT1H
X-Robots-Tag:noindex
X-PUBLISHED-TTL:PT1H
BEGIN:VTIMEZONE
TZID:America/Los_Angeles
BEGIN:DAYLIGHT
TZOFFSETFROM:-0800
TZOFFSETTO:-0700
TZNAME:PDT
DTSTART:20250309T100000
END:DAYLIGHT
BEGIN:STANDARD
TZOFFSETFROM:-0700
TZOFFSETTO:-0800
TZNAME:PST
DTSTART:20251102T090000
END:STANDARD
BEGIN:DAYLIGHT
TZOFFSETFROM:-0800
TZOFFSETTO:-0700
TZNAME:PDT
DTSTART:20260308T100000
END:DAYLIGHT
BEGIN:STANDARD
TZOFFSETFROM:-0700
TZOFFSETTO:-0800
TZNAME:PST
DTSTART:20261101T090000
END:STANDARD
BEGIN:DAYLIGHT
TZOFFSETFROM:-0800
TZOFFSETTO:-0700
TZNAME:PDT
DTSTART:20270314T100000
END:DAYLIGHT
BEGIN:STANDARD
TZOFFSETFROM:-0700
TZOFFSETTO:-0800
TZNAME:PST
DTSTART:20271107T090000
END:STANDARD
END:VTIMEZONE
BEGIN:VEVENT
DTSTART;VALUE=DATE:20260515
DTEND;VALUE=DATE:20260516
DTSTAMP:20260421T123004
CREATED:20250702T210526Z
LAST-MODIFIED:20250702T210526Z
UID:3811-1778803200-1778889599@secondary.sd42.ca
SUMMARY:Day 3 - BADC
DESCRIPTION:
URL:https://secondary.sd42.ca/srt/event/day-3-badc-88/
END:VEVENT
BEGIN:VEVENT
DTSTART;TZID=America/Los_Angeles:20260515T084500
DTEND;TZID=America/Los_Angeles:20260515T160000
DTSTAMP:20260421T123004
CREATED:20260210T203801Z
LAST-MODIFIED:20260417T211438Z
UID:4814-1778834700-1778860800@secondary.sd42.ca
SUMMARY:Physics 11/12 fieldtrip Playland
DESCRIPTION:Hello Parents\, \nAs part of the Physics 11 and 12 curricula\, a fieldtrip to Playland has been planned to learn and apply the concepts of physics as they apply to amusement park rides.  Learning outcomes include\, Motion & Kinematics\, Dynamics & Forces\, Gravity\, and Momentum and Collisions. Physics students from Physics 11 and 12 classes from both Day 1 and Day 2 will be going to Playland on Friday\, May 15\, 2026.  Please note\, there may be limited number of bus seats. Once registration has reached capacity\, students enrolling afterward will be placed on a waitlist. \nThe fieldtrip will proceed rain or shine.  Refunds will not be given.  \nThank you\, \nMs. Nelson\, Ms. Meyer\, and Mr. Mah
URL:https://secondary.sd42.ca/srt/event/physics-11-12-fieldtrip-playland/
END:VEVENT
END:VCALENDAR