BEGIN:VCALENDAR
VERSION:2.0
PRODID:-//SRT - ECPv6.15.14//NONSGML v1.0//EN
CALSCALE:GREGORIAN
METHOD:PUBLISH
X-WR-CALNAME:SRT
X-ORIGINAL-URL:https://secondary.sd42.ca/srt
X-WR-CALDESC:Events for SRT
REFRESH-INTERVAL;VALUE=DURATION:PT1H
X-Robots-Tag:noindex
X-PUBLISHED-TTL:PT1H
BEGIN:VTIMEZONE
TZID:America/Los_Angeles
BEGIN:DAYLIGHT
TZOFFSETFROM:-0800
TZOFFSETTO:-0700
TZNAME:PDT
DTSTART:20250309T100000
END:DAYLIGHT
BEGIN:STANDARD
TZOFFSETFROM:-0700
TZOFFSETTO:-0800
TZNAME:PST
DTSTART:20251102T090000
END:STANDARD
BEGIN:DAYLIGHT
TZOFFSETFROM:-0800
TZOFFSETTO:-0700
TZNAME:PDT
DTSTART:20260308T100000
END:DAYLIGHT
BEGIN:STANDARD
TZOFFSETFROM:-0700
TZOFFSETTO:-0800
TZNAME:PST
DTSTART:20261101T090000
END:STANDARD
BEGIN:DAYLIGHT
TZOFFSETFROM:-0800
TZOFFSETTO:-0700
TZNAME:PDT
DTSTART:20270314T100000
END:DAYLIGHT
BEGIN:STANDARD
TZOFFSETFROM:-0700
TZOFFSETTO:-0800
TZNAME:PST
DTSTART:20271107T090000
END:STANDARD
END:VTIMEZONE
BEGIN:VEVENT
DTSTART;VALUE=DATE:20260430
DTEND;VALUE=DATE:20260501
DTSTAMP:20260421T091354
CREATED:20250430T205904Z
LAST-MODIFIED:20250430T205904Z
UID:3419-1777507200-1777593599@secondary.sd42.ca
SUMMARY:Day 4 - FEHG
DESCRIPTION:Day 4 – FEHG
URL:https://secondary.sd42.ca/srt/event/day-4-fehg-74/
END:VEVENT
BEGIN:VEVENT
DTSTART;TZID=America/Los_Angeles:20260430T090000
DTEND;TZID=America/Los_Angeles:20260430T133000
DTSTAMP:20260421T091354
CREATED:20260210T210707Z
LAST-MODIFIED:20260210T210707Z
UID:4823-1777539600-1777555800@secondary.sd42.ca
SUMMARY:Career fair grade 10s @ Library
DESCRIPTION:
URL:https://secondary.sd42.ca/srt/event/career-fair-grade-10s-library/
END:VEVENT
BEGIN:VEVENT
DTSTART;TZID=America/Los_Angeles:20260430T141500
DTEND;TZID=America/Los_Angeles:20260430T170000
DTSTAMP:20260421T091354
CREATED:20260408T164427Z
LAST-MODIFIED:20260408T164427Z
UID:5041-1777558500-1777568400@secondary.sd42.ca
SUMMARY:Ball Hockey GSS vs SRT @ Pitt Meadows Arena
DESCRIPTION:
URL:https://secondary.sd42.ca/srt/event/ball-hockey-gss-vs-srt-pitt-meadows-arena/
END:VEVENT
END:VCALENDAR