BEGIN:VCALENDAR
VERSION:2.0
PRODID:-//SRT - ECPv6.15.14//NONSGML v1.0//EN
CALSCALE:GREGORIAN
METHOD:PUBLISH
X-WR-CALNAME:SRT
X-ORIGINAL-URL:https://secondary.sd42.ca/srt
X-WR-CALDESC:Events for SRT
REFRESH-INTERVAL;VALUE=DURATION:PT1H
X-Robots-Tag:noindex
X-PUBLISHED-TTL:PT1H
BEGIN:VTIMEZONE
TZID:America/Los_Angeles
BEGIN:DAYLIGHT
TZOFFSETFROM:-0800
TZOFFSETTO:-0700
TZNAME:PDT
DTSTART:20250309T100000
END:DAYLIGHT
BEGIN:STANDARD
TZOFFSETFROM:-0700
TZOFFSETTO:-0800
TZNAME:PST
DTSTART:20251102T090000
END:STANDARD
BEGIN:DAYLIGHT
TZOFFSETFROM:-0800
TZOFFSETTO:-0700
TZNAME:PDT
DTSTART:20260308T100000
END:DAYLIGHT
BEGIN:STANDARD
TZOFFSETFROM:-0700
TZOFFSETTO:-0800
TZNAME:PST
DTSTART:20261101T090000
END:STANDARD
BEGIN:DAYLIGHT
TZOFFSETFROM:-0800
TZOFFSETTO:-0700
TZNAME:PDT
DTSTART:20270314T100000
END:DAYLIGHT
BEGIN:STANDARD
TZOFFSETFROM:-0700
TZOFFSETTO:-0800
TZNAME:PST
DTSTART:20271107T090000
END:STANDARD
END:VTIMEZONE
BEGIN:VEVENT
DTSTART;VALUE=DATE:20260429
DTEND;VALUE=DATE:20260430
DTSTAMP:20260421T091354
CREATED:20250430T205903Z
LAST-MODIFIED:20250430T205903Z
UID:3418-1777420800-1777507199@secondary.sd42.ca
SUMMARY:Day 3 - BADC
DESCRIPTION:Day 3 – BADC
URL:https://secondary.sd42.ca/srt/event/day-3-badc-75/
END:VEVENT
BEGIN:VEVENT
DTSTART;TZID=America/Los_Angeles:20260429T083000
DTEND;TZID=America/Los_Angeles:20260429T160000
DTSTAMP:20260421T091355
CREATED:20260313T184406Z
LAST-MODIFIED:20260313T184406Z
UID:4977-1777451400-1777478400@secondary.sd42.ca
SUMMARY:Film and TV 11/12 / Drama 10/12 fieldtrip @The Rio
DESCRIPTION:Students will be attending the Rio Theatre for a double feature of the films: Captain America: The Winter Soldier and The Thing. This will be part of a larger lesson on genre mashups and the difference between special vs practical effects. \nThe teacher will provide a lesson on certain elements of both films before watching them at the theatre. Lunch will be provided. \nDisclaimer: The Thing is rated R for frightening scenes and violence. There will be several adults in attendance for supervision\, but please be aware of this before signing your child up for this trip.
URL:https://secondary.sd42.ca/srt/event/film-and-tv-11-12-drama-10-12-fieldtrip-the-rio/
END:VEVENT
BEGIN:VEVENT
DTSTART;TZID=America/Los_Angeles:20260429T123000
DTEND;TZID=America/Los_Angeles:20260429T140000
DTSTAMP:20260421T091355
CREATED:20260417T211241Z
LAST-MODIFIED:20260417T211241Z
UID:5468-1777465800-1777471200@secondary.sd42.ca
SUMMARY:Raising Boys in a Digital World Virtual Seminar
DESCRIPTION:Dear Parents and Guardians\,\nOur counselling staff\, along with school counsellors across the province\, have asked us to let you know about the opportunity to participate in a virtual event focusing on raising boys and young men in a digital world.  See the information and login link below if you are interested. \nRaising Boys in a Digital World\nBoys and young men are navigating increasingly complex online environments where risks like sexual exploitation and sextortion\, misogynistic online ideologies\, and gender-based violence are on the rise. Supporting boys in developing critical thinking\, empathy\, and respect is essential to preventing harm and building safer communities for everyone. \nWe invite you to join our upcoming virtual event: \nRaising Boys in a Digital World: How Parents and Educators Can Prevent Online Harms and Promote Healthy Masculinities \nDate: April 29\, 2026\nTime: 12:30 – 2:00 PM \nThis session will bring together educators\, parents\, and caregivers to explore how we can better support youth—especially boys and young men—through early prevention\, open conversations\, and the promotion of healthy masculinities. \nTogether\, we can help create safer\, healthier environments for youth. \nRegister now
URL:https://secondary.sd42.ca/srt/event/raising-boys-in-a-digital-world-virtual-seminar/
END:VEVENT
END:VCALENDAR