BEGIN:VCALENDAR
VERSION:2.0
PRODID:-//SRT - ECPv6.15.14//NONSGML v1.0//EN
CALSCALE:GREGORIAN
METHOD:PUBLISH
X-WR-CALNAME:SRT
X-ORIGINAL-URL:https://secondary.sd42.ca/srt
X-WR-CALDESC:Events for SRT
REFRESH-INTERVAL;VALUE=DURATION:PT1H
X-Robots-Tag:noindex
X-PUBLISHED-TTL:PT1H
BEGIN:VTIMEZONE
TZID:America/Los_Angeles
BEGIN:DAYLIGHT
TZOFFSETFROM:-0800
TZOFFSETTO:-0700
TZNAME:PDT
DTSTART:20250309T100000
END:DAYLIGHT
BEGIN:STANDARD
TZOFFSETFROM:-0700
TZOFFSETTO:-0800
TZNAME:PST
DTSTART:20251102T090000
END:STANDARD
BEGIN:DAYLIGHT
TZOFFSETFROM:-0800
TZOFFSETTO:-0700
TZNAME:PDT
DTSTART:20260308T100000
END:DAYLIGHT
BEGIN:STANDARD
TZOFFSETFROM:-0700
TZOFFSETTO:-0800
TZNAME:PST
DTSTART:20261101T090000
END:STANDARD
BEGIN:DAYLIGHT
TZOFFSETFROM:-0800
TZOFFSETTO:-0700
TZNAME:PDT
DTSTART:20270314T100000
END:DAYLIGHT
BEGIN:STANDARD
TZOFFSETFROM:-0700
TZOFFSETTO:-0800
TZNAME:PST
DTSTART:20271107T090000
END:STANDARD
END:VTIMEZONE
BEGIN:VEVENT
DTSTART;VALUE=DATE:20260424
DTEND;VALUE=DATE:20260425
DTSTAMP:20260424T034035
CREATED:20250702T210039Z
LAST-MODIFIED:20250702T210039Z
UID:3795-1776988800-1777075199@secondary.sd42.ca
SUMMARY:Day 3 - BADC
DESCRIPTION:
URL:https://secondary.sd42.ca/srt/event/day-3-badc-87/
END:VEVENT
BEGIN:VEVENT
DTSTART;TZID=America/Los_Angeles:20260424T083000
DTEND;TZID=America/Los_Angeles:20260424T144500
DTSTAMP:20260424T034035
CREATED:20250430T205725Z
LAST-MODIFIED:20250430T205725Z
UID:3414-1777019400-1777041900@secondary.sd42.ca
SUMMARY:Numeracy 10 Assessments - Library Closed
DESCRIPTION:
URL:https://secondary.sd42.ca/srt/event/numeracy-10-assessments-library-closed-5/
END:VEVENT
BEGIN:VEVENT
DTSTART;TZID=America/Los_Angeles:20260424T094300
DTEND;TZID=America/Los_Angeles:20260424T102300
DTSTAMP:20260424T034035
CREATED:20260421T171823Z
LAST-MODIFIED:20260421T171823Z
UID:5481-1777023780-1777026180@secondary.sd42.ca
SUMMARY:Next year Link Crew candidates meeting @ Ms Walton
DESCRIPTION:
URL:https://secondary.sd42.ca/srt/event/next-year-link-crew-candidates-meeting-ms-walton/
END:VEVENT
BEGIN:VEVENT
DTSTART;TZID=America/Los_Angeles:20260424T094300
DTEND;TZID=America/Los_Angeles:20260424T102300
DTSTAMP:20260424T034035
CREATED:20260423T173628Z
LAST-MODIFIED:20260423T173628Z
UID:5510-1777023780-1777026180@secondary.sd42.ca
SUMMARY:English 12 First Peoples mandatory attendance @ Indigenous Gathering Room
DESCRIPTION:This is a reminder to Ms Tinckler’s English 12 First Peoples students of your mandatory attendance during Flex on Friday for our Elder visit happening in the Indigenous Gathering Room.
URL:https://secondary.sd42.ca/srt/event/english-12-first-peoples-mandatory-attendance-indigenous-gathering-room/
END:VEVENT
BEGIN:VEVENT
DTSTART;TZID=America/Los_Angeles:20260424T153000
DTEND;TZID=America/Los_Angeles:20260424T170000
DTSTAMP:20260424T034035
CREATED:20260408T164256Z
LAST-MODIFIED:20260408T164256Z
UID:5039-1777044600-1777050000@secondary.sd42.ca
SUMMARY:Ball Hockey WSS vs SRT @ Pitt Meadows Arena
DESCRIPTION:
URL:https://secondary.sd42.ca/srt/event/ball-hockey-wss-vs-srt-pitt-meadows-arena/
END:VEVENT
END:VCALENDAR