BEGIN:VCALENDAR
VERSION:2.0
PRODID:-//SRT - ECPv6.15.14//NONSGML v1.0//EN
CALSCALE:GREGORIAN
METHOD:PUBLISH
X-WR-CALNAME:SRT
X-ORIGINAL-URL:https://secondary.sd42.ca/srt
X-WR-CALDESC:Events for SRT
REFRESH-INTERVAL;VALUE=DURATION:PT1H
X-Robots-Tag:noindex
X-PUBLISHED-TTL:PT1H
BEGIN:VTIMEZONE
TZID:America/Los_Angeles
BEGIN:DAYLIGHT
TZOFFSETFROM:-0800
TZOFFSETTO:-0700
TZNAME:PDT
DTSTART:20250309T100000
END:DAYLIGHT
BEGIN:STANDARD
TZOFFSETFROM:-0700
TZOFFSETTO:-0800
TZNAME:PST
DTSTART:20251102T090000
END:STANDARD
BEGIN:DAYLIGHT
TZOFFSETFROM:-0800
TZOFFSETTO:-0700
TZNAME:PDT
DTSTART:20260308T100000
END:DAYLIGHT
BEGIN:STANDARD
TZOFFSETFROM:-0700
TZOFFSETTO:-0800
TZNAME:PST
DTSTART:20261101T090000
END:STANDARD
BEGIN:DAYLIGHT
TZOFFSETFROM:-0800
TZOFFSETTO:-0700
TZNAME:PDT
DTSTART:20270314T100000
END:DAYLIGHT
BEGIN:STANDARD
TZOFFSETFROM:-0700
TZOFFSETTO:-0800
TZNAME:PST
DTSTART:20271107T090000
END:STANDARD
END:VTIMEZONE
BEGIN:VEVENT
DTSTART;VALUE=DATE:20260420
DTEND;VALUE=DATE:20260421
DTSTAMP:20260422T004247
CREATED:20250430T205113Z
LAST-MODIFIED:20250430T205113Z
UID:3394-1776643200-1776729599@secondary.sd42.ca
SUMMARY:Day 1 - ABCD
DESCRIPTION:Day 1 – ABCD
URL:https://secondary.sd42.ca/srt/event/day-1-abcd-66/
END:VEVENT
BEGIN:VEVENT
DTSTART;TZID=America/Los_Angeles:20260420T083000
DTEND;TZID=America/Los_Angeles:20260420T143000
DTSTAMP:20260422T004247
CREATED:20260210T203701Z
LAST-MODIFIED:20260409T195334Z
UID:4810-1776673800-1776695400@secondary.sd42.ca
SUMMARY:Biology 11 & Science 9 fieldtrip @ Vancouver Zoo
DESCRIPTION:As part of the biology unit in Biology 11& Science 9\, a field trip has been planned for the Greater Vancouver Zoo on Monday\, April 20\, 2026. \nStudents will be studying animals from the phylum chordata. In addition\, to independent observations of the zoo displays and exhibits\, students will take part in the conservation and endangered species guided tour.  \nStudents not attending the field trip will be required to attend school as they will have alternate assignments in lieu of attending the trip. Students will not be permitted to stay home. \n**NOTE** Seating availability on the buses is limited. Students will enrolled for the field trip on a first come\, first serve basis. \nThank you.
URL:https://secondary.sd42.ca/srt/event/science-9-fieldtrip-vancouver-zoo/
END:VEVENT
BEGIN:VEVENT
DTSTART;TZID=America/Los_Angeles:20260420T083000
DTEND;TZID=America/Los_Angeles:20260420T144500
DTSTAMP:20260422T004247
CREATED:20250430T205615Z
LAST-MODIFIED:20250430T205615Z
UID:3406-1776673800-1776696300@secondary.sd42.ca
SUMMARY:Numeracy 10 Assessments - Library Closed
DESCRIPTION:
URL:https://secondary.sd42.ca/srt/event/numeracy-10-assessments-library-closed/
END:VEVENT
BEGIN:VEVENT
DTSTART;TZID=America/Los_Angeles:20260420T153000
DTEND;TZID=America/Los_Angeles:20260420T170000
DTSTAMP:20260422T004247
CREATED:20260408T164224Z
LAST-MODIFIED:20260408T164224Z
UID:5037-1776699000-1776704400@secondary.sd42.ca
SUMMARY:Ball Hockey PMSS vs SRT @ Golden Ears Winter Club
DESCRIPTION:
URL:https://secondary.sd42.ca/srt/event/ball-hockey-pmss-vs-srt-golden-ears-winter-club/
END:VEVENT
END:VCALENDAR