BEGIN:VCALENDAR
VERSION:2.0
PRODID:-//SRT - ECPv6.15.14//NONSGML v1.0//EN
CALSCALE:GREGORIAN
METHOD:PUBLISH
X-WR-CALNAME:SRT
X-ORIGINAL-URL:https://secondary.sd42.ca/srt
X-WR-CALDESC:Events for SRT
REFRESH-INTERVAL;VALUE=DURATION:PT1H
X-Robots-Tag:noindex
X-PUBLISHED-TTL:PT1H
BEGIN:VTIMEZONE
TZID:America/Los_Angeles
BEGIN:DAYLIGHT
TZOFFSETFROM:-0800
TZOFFSETTO:-0700
TZNAME:PDT
DTSTART:20250309T100000
END:DAYLIGHT
BEGIN:STANDARD
TZOFFSETFROM:-0700
TZOFFSETTO:-0800
TZNAME:PST
DTSTART:20251102T090000
END:STANDARD
BEGIN:DAYLIGHT
TZOFFSETFROM:-0800
TZOFFSETTO:-0700
TZNAME:PDT
DTSTART:20260308T100000
END:DAYLIGHT
BEGIN:STANDARD
TZOFFSETFROM:-0700
TZOFFSETTO:-0800
TZNAME:PST
DTSTART:20261101T090000
END:STANDARD
BEGIN:DAYLIGHT
TZOFFSETFROM:-0800
TZOFFSETTO:-0700
TZNAME:PDT
DTSTART:20270314T100000
END:DAYLIGHT
BEGIN:STANDARD
TZOFFSETFROM:-0700
TZOFFSETTO:-0800
TZNAME:PST
DTSTART:20271107T090000
END:STANDARD
END:VTIMEZONE
BEGIN:VEVENT
DTSTART;VALUE=DATE:20260129
DTEND;VALUE=DATE:20260130
DTSTAMP:20260423T080059
CREATED:20250430T202220Z
LAST-MODIFIED:20250430T202220Z
UID:3288-1769644800-1769731199@secondary.sd42.ca
SUMMARY:Day 4 - FEHG
DESCRIPTION:Day 4 – FEHG
URL:https://secondary.sd42.ca/srt/event/day-4-fehg-63/
END:VEVENT
BEGIN:VEVENT
DTSTART;TZID=America/Los_Angeles:20260129T180000
DTEND;TZID=America/Los_Angeles:20260129T203000
DTSTAMP:20260423T080059
CREATED:20260109T213558Z
LAST-MODIFIED:20260109T213558Z
UID:4654-1769709600-1769718600@secondary.sd42.ca
SUMMARY:SD42 Trades Showcase @ THS
DESCRIPTION:ou are invited to attend the Maple Ridge – Pitt Meadows School District Trades Showcase event. This year will feature more industry representation\, interactive displays\, and additional breakout sessions where parents can speak directly with industry professionals and former students. More information about the new additions and representatives you can expect to see at the event will be shared soon. Last year’s event showcased more than 40 industries\, post-secondary training institutions\, employer organizations\, tool suppliers\, and union representatives. Ask questions\, get answers! \nRegistration is required to ensure adequate preparation for refreshments and seating. Register with the link below: \nCLICK HERE TO REGISTER\n(or go to Apprenticeship.sd42.ca) \nThe purpose of this showcase event is not only to promote SD42 Trades Training programs\, but also to highlight careers in the skilled trades. Parents/guardians and students will learn about employment opportunities and gain industry insights directly from industry personnel. The event is open to all who are interested in attending. \nNote: Refreshments will be provided by our Vancouver Community College Professional Cook Level One students.  \nIf you have any questions\, please email: \nBrad_Dingler@sd42.ca\nBrenna_Michaud@sd42.ca
URL:https://secondary.sd42.ca/srt/event/sd42-trades-showcase-ths/
END:VEVENT
END:VCALENDAR