BEGIN:VCALENDAR
VERSION:2.0
PRODID:-//SRT - ECPv6.15.14//NONSGML v1.0//EN
CALSCALE:GREGORIAN
METHOD:PUBLISH
X-ORIGINAL-URL:https://secondary.sd42.ca/srt
X-WR-CALDESC:Events for SRT
REFRESH-INTERVAL;VALUE=DURATION:PT1H
X-Robots-Tag:noindex
X-PUBLISHED-TTL:PT1H
BEGIN:VTIMEZONE
TZID:America/Los_Angeles
BEGIN:DAYLIGHT
TZOFFSETFROM:-0800
TZOFFSETTO:-0700
TZNAME:PDT
DTSTART:20250309T100000
END:DAYLIGHT
BEGIN:STANDARD
TZOFFSETFROM:-0700
TZOFFSETTO:-0800
TZNAME:PST
DTSTART:20251102T090000
END:STANDARD
BEGIN:DAYLIGHT
TZOFFSETFROM:-0800
TZOFFSETTO:-0700
TZNAME:PDT
DTSTART:20260308T100000
END:DAYLIGHT
BEGIN:STANDARD
TZOFFSETFROM:-0700
TZOFFSETTO:-0800
TZNAME:PST
DTSTART:20261101T090000
END:STANDARD
BEGIN:DAYLIGHT
TZOFFSETFROM:-0800
TZOFFSETTO:-0700
TZNAME:PDT
DTSTART:20270314T100000
END:DAYLIGHT
BEGIN:STANDARD
TZOFFSETFROM:-0700
TZOFFSETTO:-0800
TZNAME:PST
DTSTART:20271107T090000
END:STANDARD
END:VTIMEZONE
BEGIN:VEVENT
DTSTART;VALUE=DATE:20260122
DTEND;VALUE=DATE:20260123
DTSTAMP:20260423T080320
CREATED:20250430T202018Z
LAST-MODIFIED:20250430T202018Z
UID:3280-1769040000-1769126399@secondary.sd42.ca
SUMMARY:Day 4 - FEHG
DESCRIPTION:Day 4 – FEHG
URL:https://secondary.sd42.ca/srt/event/day-4-fehg-62/
END:VEVENT
BEGIN:VEVENT
DTSTART;TZID=America/Los_Angeles:20260122T083000
DTEND;TZID=America/Los_Angeles:20260122T144500
DTSTAMP:20260423T080320
CREATED:20250430T204925Z
LAST-MODIFIED:20260116T163410Z
UID:3363-1769070600-1769093100@secondary.sd42.ca
SUMMARY:Literacy 12 Assessments - Library Closed
DESCRIPTION:
URL:https://secondary.sd42.ca/srt/event/literacy-10-assessments-library-closed-9/
END:VEVENT
BEGIN:VEVENT
DTSTART;TZID=America/Los_Angeles:20260122T113600
DTEND;TZID=America/Los_Angeles:20260122T121900
DTSTAMP:20260423T080320
CREATED:20260116T165214Z
LAST-MODIFIED:20260116T165214Z
UID:4690-1769081760-1769084340@secondary.sd42.ca
SUMMARY:Lunch for international students @ 2060
DESCRIPTION:
URL:https://secondary.sd42.ca/srt/event/lunch-for-international-students-2060/
END:VEVENT
BEGIN:VEVENT
DTSTART;TZID=America/Los_Angeles:20260122T144500
DTEND;TZID=America/Los_Angeles:20260122T170000
DTSTAMP:20260423T080320
CREATED:20260119T184003Z
LAST-MODIFIED:20260119T184003Z
UID:4705-1769093100-1769101200@secondary.sd42.ca
SUMMARY:Cast of The Bold and the Young practice @ Drama rm
DESCRIPTION:
URL:https://secondary.sd42.ca/srt/event/cast-of-the-bold-and-the-young-practice-drama-rm/
END:VEVENT
END:VCALENDAR