BEGIN:VCALENDAR
VERSION:2.0
PRODID:-//SRT - ECPv6.15.14//NONSGML v1.0//EN
CALSCALE:GREGORIAN
METHOD:PUBLISH
X-WR-CALNAME:SRT
X-ORIGINAL-URL:https://secondary.sd42.ca/srt
X-WR-CALDESC:Events for SRT
REFRESH-INTERVAL;VALUE=DURATION:PT1H
X-Robots-Tag:noindex
X-PUBLISHED-TTL:PT1H
BEGIN:VTIMEZONE
TZID:America/Los_Angeles
BEGIN:DAYLIGHT
TZOFFSETFROM:-0800
TZOFFSETTO:-0700
TZNAME:PDT
DTSTART:20240310T100000
END:DAYLIGHT
BEGIN:STANDARD
TZOFFSETFROM:-0700
TZOFFSETTO:-0800
TZNAME:PST
DTSTART:20241103T090000
END:STANDARD
BEGIN:DAYLIGHT
TZOFFSETFROM:-0800
TZOFFSETTO:-0700
TZNAME:PDT
DTSTART:20250309T100000
END:DAYLIGHT
BEGIN:STANDARD
TZOFFSETFROM:-0700
TZOFFSETTO:-0800
TZNAME:PST
DTSTART:20251102T090000
END:STANDARD
BEGIN:DAYLIGHT
TZOFFSETFROM:-0800
TZOFFSETTO:-0700
TZNAME:PDT
DTSTART:20260308T100000
END:DAYLIGHT
BEGIN:STANDARD
TZOFFSETFROM:-0700
TZOFFSETTO:-0800
TZNAME:PST
DTSTART:20261101T090000
END:STANDARD
END:VTIMEZONE
BEGIN:VEVENT
DTSTART;VALUE=DATE:20251117
DTEND;VALUE=DATE:20251118
DTSTAMP:20260422T055408
CREATED:20250430T201616Z
LAST-MODIFIED:20250430T201616Z
UID:3239-1763337600-1763423999@secondary.sd42.ca
SUMMARY:Day 1 - ABCD
DESCRIPTION:Day 1 – ABCD
URL:https://secondary.sd42.ca/srt/event/day-1-abcd-50/
END:VEVENT
BEGIN:VEVENT
DTSTART;TZID=America/Los_Angeles:20251117T113600
DTEND;TZID=America/Los_Angeles:20251117T121900
DTSTAMP:20260422T055408
CREATED:20251117T183857Z
LAST-MODIFIED:20251117T183857Z
UID:4470-1763379360-1763381940@secondary.sd42.ca
SUMMARY:Whistler Blackcomb December 17 paper waiver @ Art room
DESCRIPTION:
URL:https://secondary.sd42.ca/srt/event/whistler-blackcomb-december-17-paper-waiver-art-room/
END:VEVENT
END:VCALENDAR