BEGIN:VCALENDAR
VERSION:2.0
PRODID:-//SRT - ECPv6.15.14//NONSGML v1.0//EN
CALSCALE:GREGORIAN
METHOD:PUBLISH
X-WR-CALNAME:SRT
X-ORIGINAL-URL:https://secondary.sd42.ca/srt
X-WR-CALDESC:Events for SRT
REFRESH-INTERVAL;VALUE=DURATION:PT1H
X-Robots-Tag:noindex
X-PUBLISHED-TTL:PT1H
BEGIN:VTIMEZONE
TZID:America/Los_Angeles
BEGIN:DAYLIGHT
TZOFFSETFROM:-0800
TZOFFSETTO:-0700
TZNAME:PDT
DTSTART:20240310T100000
END:DAYLIGHT
BEGIN:STANDARD
TZOFFSETFROM:-0700
TZOFFSETTO:-0800
TZNAME:PST
DTSTART:20241103T090000
END:STANDARD
BEGIN:DAYLIGHT
TZOFFSETFROM:-0800
TZOFFSETTO:-0700
TZNAME:PDT
DTSTART:20250309T100000
END:DAYLIGHT
BEGIN:STANDARD
TZOFFSETFROM:-0700
TZOFFSETTO:-0800
TZNAME:PST
DTSTART:20251102T090000
END:STANDARD
BEGIN:DAYLIGHT
TZOFFSETFROM:-0800
TZOFFSETTO:-0700
TZNAME:PDT
DTSTART:20260308T100000
END:DAYLIGHT
BEGIN:STANDARD
TZOFFSETFROM:-0700
TZOFFSETTO:-0800
TZNAME:PST
DTSTART:20261101T090000
END:STANDARD
END:VTIMEZONE
BEGIN:VEVENT
DTSTART;VALUE=DATE:20251105
DTEND;VALUE=DATE:20251106
DTSTAMP:20260423T170614
CREATED:20250430T201442Z
LAST-MODIFIED:20250430T201442Z
UID:3230-1762300800-1762387199@secondary.sd42.ca
SUMMARY:Day 3 - BADC
DESCRIPTION:Day 3 – BADC
URL:https://secondary.sd42.ca/srt/event/day-3-badc-54/
END:VEVENT
BEGIN:VEVENT
DTSTART;TZID=America/Los_Angeles:20251105T083000
DTEND;TZID=America/Los_Angeles:20251105T144500
DTSTAMP:20260423T170614
CREATED:20250430T203141Z
LAST-MODIFIED:20250430T203141Z
UID:3309-1762331400-1762353900@secondary.sd42.ca
SUMMARY:Grade 9's: Take your kid to work day
DESCRIPTION:
URL:https://secondary.sd42.ca/srt/event/grade-9s-take-your-kid-to-work-day-2/
END:VEVENT
BEGIN:VEVENT
DTSTART;TZID=America/Los_Angeles:20251105T083000
DTEND;TZID=America/Los_Angeles:20251105T144500
DTSTAMP:20260423T170614
CREATED:20250430T203352Z
LAST-MODIFIED:20251028T143526Z
UID:3317-1762331400-1762353900@secondary.sd42.ca
SUMMARY:Literacy 12 Assessments - CANCELLED
DESCRIPTION:
URL:https://secondary.sd42.ca/srt/event/literacy-12-assessments-library-closed-3/
END:VEVENT
BEGIN:VEVENT
DTSTART;TZID=America/Los_Angeles:20251105T124500
DTEND;TZID=America/Los_Angeles:20251105T143000
DTSTAMP:20260423T170614
CREATED:20251021T180228Z
LAST-MODIFIED:20251103T183901Z
UID:4325-1762346700-1762353000@secondary.sd42.ca
SUMMARY:PSI (Post-secondary institution event) @ CAF
DESCRIPTION:
URL:https://secondary.sd42.ca/srt/event/psi-post-secondary-institution-event-srt/
END:VEVENT
END:VCALENDAR