BEGIN:VCALENDAR
VERSION:2.0
PRODID:-//SRT - ECPv6.15.14//NONSGML v1.0//EN
CALSCALE:GREGORIAN
METHOD:PUBLISH
X-WR-CALNAME:SRT
X-ORIGINAL-URL:https://secondary.sd42.ca/srt
X-WR-CALDESC:Events for SRT
REFRESH-INTERVAL;VALUE=DURATION:PT1H
X-Robots-Tag:noindex
X-PUBLISHED-TTL:PT1H
BEGIN:VTIMEZONE
TZID:America/Los_Angeles
BEGIN:DAYLIGHT
TZOFFSETFROM:-0800
TZOFFSETTO:-0700
TZNAME:PDT
DTSTART:20240310T100000
END:DAYLIGHT
BEGIN:STANDARD
TZOFFSETFROM:-0700
TZOFFSETTO:-0800
TZNAME:PST
DTSTART:20241103T090000
END:STANDARD
BEGIN:DAYLIGHT
TZOFFSETFROM:-0800
TZOFFSETTO:-0700
TZNAME:PDT
DTSTART:20250309T100000
END:DAYLIGHT
BEGIN:STANDARD
TZOFFSETFROM:-0700
TZOFFSETTO:-0800
TZNAME:PST
DTSTART:20251102T090000
END:STANDARD
BEGIN:DAYLIGHT
TZOFFSETFROM:-0800
TZOFFSETTO:-0700
TZNAME:PDT
DTSTART:20260308T100000
END:DAYLIGHT
BEGIN:STANDARD
TZOFFSETFROM:-0700
TZOFFSETTO:-0800
TZNAME:PST
DTSTART:20261101T090000
END:STANDARD
END:VTIMEZONE
BEGIN:VEVENT
DTSTART;VALUE=DATE:20251029
DTEND;VALUE=DATE:20251030
DTSTAMP:20260424T120537
CREATED:20250430T201416Z
LAST-MODIFIED:20250430T201416Z
UID:3226-1761696000-1761782399@secondary.sd42.ca
SUMMARY:Day 3 - BADC
DESCRIPTION:Day 3 – BADC
URL:https://secondary.sd42.ca/srt/event/day-3-badc-53/
END:VEVENT
BEGIN:VEVENT
DTSTART;TZID=America/Los_Angeles:20251029T070000
DTEND;TZID=America/Los_Angeles:20251029T083000
DTSTAMP:20260424T120537
CREATED:20251028T164835Z
LAST-MODIFIED:20251028T164835Z
UID:4357-1761721200-1761726600@secondary.sd42.ca
SUMMARY:Jr/Sr Girls Basketball Tryouts @ Gym
DESCRIPTION:
URL:https://secondary.sd42.ca/srt/event/jr-sr-girls-basketball-tryouts-gym-2/
END:VEVENT
BEGIN:VEVENT
DTSTART;TZID=America/Los_Angeles:20251029T113600
DTEND;TZID=America/Los_Angeles:20251029T121900
DTSTAMP:20260424T120537
CREATED:20251029T174850Z
LAST-MODIFIED:20251029T174850Z
UID:4373-1761737760-1761740340@secondary.sd42.ca
SUMMARY:Sr students skiers & boarders meeting @ Art room
DESCRIPTION:
URL:https://secondary.sd42.ca/srt/event/sr-students-skiers-boarders-meeting-art-room/
END:VEVENT
BEGIN:VEVENT
DTSTART;TZID=America/Los_Angeles:20251029T153000
DTEND;TZID=America/Los_Angeles:20251029T170000
DTSTAMP:20260424T120537
CREATED:20251029T173512Z
LAST-MODIFIED:20251029T173512Z
UID:4369-1761751800-1761757200@secondary.sd42.ca
SUMMARY:Jr Boys Volleyball game @ WSS
DESCRIPTION:
URL:https://secondary.sd42.ca/srt/event/jr-boys-volleyball-game-wss/
END:VEVENT
BEGIN:VEVENT
DTSTART;TZID=America/Los_Angeles:20251029T180000
DTEND;TZID=America/Los_Angeles:20251029T200000
DTSTAMP:20260424T120537
CREATED:20250430T202921Z
LAST-MODIFIED:20251020T210229Z
UID:3307-1761760800-1761768000@secondary.sd42.ca
SUMMARY:Halloween Dance
DESCRIPTION:
URL:https://secondary.sd42.ca/srt/event/school-dance/
END:VEVENT
END:VCALENDAR