BEGIN:VCALENDAR
VERSION:2.0
PRODID:-//SRT - ECPv6.15.14//NONSGML v1.0//EN
CALSCALE:GREGORIAN
METHOD:PUBLISH
X-WR-CALNAME:SRT
X-ORIGINAL-URL:https://secondary.sd42.ca/srt
X-WR-CALDESC:Events for SRT
REFRESH-INTERVAL;VALUE=DURATION:PT1H
X-Robots-Tag:noindex
X-PUBLISHED-TTL:PT1H
BEGIN:VTIMEZONE
TZID:UTC
BEGIN:STANDARD
TZOFFSETFROM:+0000
TZOFFSETTO:+0000
TZNAME:UTC
DTSTART:20240101T000000
END:STANDARD
END:VTIMEZONE
BEGIN:VTIMEZONE
TZID:America/Los_Angeles
BEGIN:DAYLIGHT
TZOFFSETFROM:-0800
TZOFFSETTO:-0700
TZNAME:PDT
DTSTART:20240310T100000
END:DAYLIGHT
BEGIN:STANDARD
TZOFFSETFROM:-0700
TZOFFSETTO:-0800
TZNAME:PST
DTSTART:20241103T090000
END:STANDARD
BEGIN:DAYLIGHT
TZOFFSETFROM:-0800
TZOFFSETTO:-0700
TZNAME:PDT
DTSTART:20250309T100000
END:DAYLIGHT
BEGIN:STANDARD
TZOFFSETFROM:-0700
TZOFFSETTO:-0800
TZNAME:PST
DTSTART:20251102T090000
END:STANDARD
BEGIN:DAYLIGHT
TZOFFSETFROM:-0800
TZOFFSETTO:-0700
TZNAME:PDT
DTSTART:20260308T100000
END:DAYLIGHT
BEGIN:STANDARD
TZOFFSETFROM:-0700
TZOFFSETTO:-0800
TZNAME:PST
DTSTART:20261101T090000
END:STANDARD
END:VTIMEZONE
BEGIN:VEVENT
DTSTART;VALUE=DATE:20250205
DTEND;VALUE=DATE:20250206
DTSTAMP:20260421T051043
CREATED:20241107T022630Z
LAST-MODIFIED:20241107T022630Z
UID:1599-1738713600-1738799999@secondary.sd42.ca
SUMMARY:Day 3- BADC
DESCRIPTION:Day 3- BADC
URL:https://secondary.sd42.ca/srt/event/day-3-badc-24/
END:VEVENT
BEGIN:VEVENT
DTSTART;TZID=America/Los_Angeles:20250205T144500
DTEND;TZID=America/Los_Angeles:20250205T151500
DTSTAMP:20260421T051043
CREATED:20250205T183624Z
LAST-MODIFIED:20250205T183624Z
UID:2706-1738766700-1738768500@secondary.sd42.ca
SUMMARY:Table tennis tournament meeting @ cafeteria
DESCRIPTION:Hey ping-pong players\, if anyone’s interested in doing a friendly tournament with Thomas Haney secondary in two weeks on Feb 19th stop by the cafeteria today after school to see Miss Adams about joining. Anyone is welcome.
URL:https://secondary.sd42.ca/srt/event/table-tennis-tournament-meeting-cafeteria/
END:VEVENT
BEGIN:VEVENT
DTSTART;TZID=America/Los_Angeles:20250205T144500
DTEND;TZID=America/Los_Angeles:20250205T160000
DTSTAMP:20260421T051043
CREATED:20250205T181139Z
LAST-MODIFIED:20250205T181139Z
UID:2702-1738766700-1738771200@secondary.sd42.ca
SUMMARY:Dungeons & Dragons enthusiasts meeting @ portable 4
DESCRIPTION:D&D Enthusiasts\, are you interested in creating an afterschool DND club? A small group of students will be meeting today afterschool in portable 4. See you there!
URL:https://secondary.sd42.ca/srt/event/dungeons-dragons-enthusiasts-meeting-portable-4/
END:VEVENT
BEGIN:VEVENT
DTSTART;TZID=America/Los_Angeles:20250205T144500
DTEND;TZID=America/Los_Angeles:20250205T170000
DTSTAMP:20260421T051043
CREATED:20250205T183514Z
LAST-MODIFIED:20250205T183645Z
UID:2704-1738766700-1738774800@secondary.sd42.ca
SUMMARY:Snow White practice for all Fairytale players @ Drama room
DESCRIPTION:Attention cast of Snow White\, there is a practice after school for all Fairytale players\, if you do not know if you should come\, please check with Mr. D
URL:https://secondary.sd42.ca/srt/event/snow-white-practice-for-all-fairytale-players/
END:VEVENT
BEGIN:VEVENT
DTSTART;TZID=America/Los_Angeles:20250205T190000
DTEND;TZID=America/Los_Angeles:20250205T200000
DTSTAMP:20260421T051043
CREATED:20250204T155351Z
LAST-MODIFIED:20250204T155351Z
UID:2660-1738782000-1738785600@secondary.sd42.ca
SUMMARY:Grad Parent Meeting @ cafeteria
DESCRIPTION:
URL:https://secondary.sd42.ca/srt/event/grad-parent-meeting-cafeteria/
END:VEVENT
END:VCALENDAR