BEGIN:VCALENDAR
VERSION:2.0
PRODID:-//SRT - ECPv6.15.14//NONSGML v1.0//EN
CALSCALE:GREGORIAN
METHOD:PUBLISH
X-WR-CALNAME:SRT
X-ORIGINAL-URL:https://secondary.sd42.ca/srt
X-WR-CALDESC:Events for SRT
REFRESH-INTERVAL;VALUE=DURATION:PT1H
X-Robots-Tag:noindex
X-PUBLISHED-TTL:PT1H
BEGIN:VTIMEZONE
TZID:UTC
BEGIN:STANDARD
TZOFFSETFROM:+0000
TZOFFSETTO:+0000
TZNAME:UTC
DTSTART:20240101T000000
END:STANDARD
END:VTIMEZONE
BEGIN:VTIMEZONE
TZID:America/Los_Angeles
BEGIN:DAYLIGHT
TZOFFSETFROM:-0800
TZOFFSETTO:-0700
TZNAME:PDT
DTSTART:20240310T100000
END:DAYLIGHT
BEGIN:STANDARD
TZOFFSETFROM:-0700
TZOFFSETTO:-0800
TZNAME:PST
DTSTART:20241103T090000
END:STANDARD
BEGIN:DAYLIGHT
TZOFFSETFROM:-0800
TZOFFSETTO:-0700
TZNAME:PDT
DTSTART:20250309T100000
END:DAYLIGHT
BEGIN:STANDARD
TZOFFSETFROM:-0700
TZOFFSETTO:-0800
TZNAME:PST
DTSTART:20251102T090000
END:STANDARD
BEGIN:DAYLIGHT
TZOFFSETFROM:-0800
TZOFFSETTO:-0700
TZNAME:PDT
DTSTART:20260308T100000
END:DAYLIGHT
BEGIN:STANDARD
TZOFFSETFROM:-0700
TZOFFSETTO:-0800
TZNAME:PST
DTSTART:20261101T090000
END:STANDARD
END:VTIMEZONE
BEGIN:VEVENT
DTSTART;VALUE=DATE:20250128
DTEND;VALUE=DATE:20250129
DTSTAMP:20260420T153025
CREATED:20241016T064119Z
LAST-MODIFIED:20241016T064119Z
UID:985-1738022400-1738108799@secondary.sd42.ca
SUMMARY:Non-instructional day (district-based)
DESCRIPTION:School not in session.
URL:https://secondary.sd42.ca/srt/event/non-instructional-day-district-based-3/
END:VEVENT
BEGIN:VEVENT
DTSTART;TZID=UTC:20250128T080000
DTEND;TZID=UTC:20250128T163000
DTSTAMP:20260420T153025
CREATED:20241107T055438Z
LAST-MODIFIED:20250115T180037Z
UID:1745-1738051200-1738081800@secondary.sd42.ca
SUMMARY:Grouse Mountain Ski and Snowboard trip
DESCRIPTION:Tuesday January 28th\, 2025 – PRO D DAY: 8:00am Departure from SRT to Grouse. Departure from Grouse Mnt at 3:00pm. Arrive SRT at 4:30 pm. 
URL:https://secondary.sd42.ca/srt/event/grouse-mountain-ski-and-snowboard-trip-2/
END:VEVENT
BEGIN:VEVENT
DTSTART;TZID=America/Los_Angeles:20250128T153000
DTEND;TZID=America/Los_Angeles:20250128T170000
DTSTAMP:20260420T153025
CREATED:20241211T215410Z
LAST-MODIFIED:20241211T215410Z
UID:2397-1738078200-1738083600@secondary.sd42.ca
SUMMARY:Grade 8 girls basketball game @ MRSS
DESCRIPTION:
URL:https://secondary.sd42.ca/srt/event/grade-8-girls-basketball-game-mrss/
END:VEVENT
BEGIN:VEVENT
DTSTART;TZID=America/Los_Angeles:20250128T173000
DTEND;TZID=America/Los_Angeles:20250128T190000
DTSTAMP:20260420T153025
CREATED:20241211T215935Z
LAST-MODIFIED:20241212T203815Z
UID:2419-1738085400-1738090800@secondary.sd42.ca
SUMMARY:Jr girls basketball game @MRSS
DESCRIPTION:
URL:https://secondary.sd42.ca/srt/event/jr-girls-basketball-game-mrss/
END:VEVENT
END:VCALENDAR