BEGIN:VCALENDAR
VERSION:2.0
PRODID:-//SRT - ECPv6.15.14//NONSGML v1.0//EN
CALSCALE:GREGORIAN
METHOD:PUBLISH
X-ORIGINAL-URL:https://secondary.sd42.ca/srt
X-WR-CALDESC:Events for SRT
REFRESH-INTERVAL;VALUE=DURATION:PT1H
X-Robots-Tag:noindex
X-PUBLISHED-TTL:PT1H
BEGIN:VTIMEZONE
TZID:UTC
BEGIN:STANDARD
TZOFFSETFROM:+0000
TZOFFSETTO:+0000
TZNAME:UTC
DTSTART:20240101T000000
END:STANDARD
END:VTIMEZONE
BEGIN:VTIMEZONE
TZID:America/Los_Angeles
BEGIN:DAYLIGHT
TZOFFSETFROM:-0800
TZOFFSETTO:-0700
TZNAME:PDT
DTSTART:20240310T100000
END:DAYLIGHT
BEGIN:STANDARD
TZOFFSETFROM:-0700
TZOFFSETTO:-0800
TZNAME:PST
DTSTART:20241103T090000
END:STANDARD
BEGIN:DAYLIGHT
TZOFFSETFROM:-0800
TZOFFSETTO:-0700
TZNAME:PDT
DTSTART:20250309T100000
END:DAYLIGHT
BEGIN:STANDARD
TZOFFSETFROM:-0700
TZOFFSETTO:-0800
TZNAME:PST
DTSTART:20251102T090000
END:STANDARD
BEGIN:DAYLIGHT
TZOFFSETFROM:-0800
TZOFFSETTO:-0700
TZNAME:PDT
DTSTART:20260308T100000
END:DAYLIGHT
BEGIN:STANDARD
TZOFFSETFROM:-0700
TZOFFSETTO:-0800
TZNAME:PST
DTSTART:20261101T090000
END:STANDARD
END:VTIMEZONE
BEGIN:VEVENT
DTSTART;VALUE=DATE:20250127
DTEND;VALUE=DATE:20250128
DTSTAMP:20260420T140211
CREATED:20241107T022601Z
LAST-MODIFIED:20241107T022601Z
UID:1590-1737936000-1738022399@secondary.sd42.ca
SUMMARY:Day 1- ABCD
DESCRIPTION:Day 1- ABCD
URL:https://secondary.sd42.ca/srt/event/day-1-abcd-22/
END:VEVENT
BEGIN:VEVENT
DTSTART;TZID=America/Los_Angeles:20250127T094300
DTEND;TZID=America/Los_Angeles:20250127T102300
DTSTAMP:20260420T140211
CREATED:20250127T155541Z
LAST-MODIFIED:20250127T155541Z
UID:2631-1737970980-1737973380@secondary.sd42.ca
SUMMARY:Student Voice Meeting @ Caf
DESCRIPTION:
URL:https://secondary.sd42.ca/srt/event/student-voice-meeting-caf/
END:VEVENT
BEGIN:VEVENT
DTSTART;TZID=America/Los_Angeles:20250127T150000
DTEND;TZID=America/Los_Angeles:20250127T170000
DTSTAMP:20260420T140211
CREATED:20250123T172606Z
LAST-MODIFIED:20250123T172606Z
UID:2618-1737990000-1737997200@secondary.sd42.ca
SUMMARY:SOGI Club Movie Night @ Drama Room.
DESCRIPTION:Watching the film Crush (2022)!
URL:https://secondary.sd42.ca/srt/event/sogi-club-movie-night-drama-room/
END:VEVENT
BEGIN:VEVENT
DTSTART;TZID=America/Los_Angeles:20250127T153000
DTEND;TZID=America/Los_Angeles:20250127T170000
DTSTAMP:20260420T140211
CREATED:20250127T155448Z
LAST-MODIFIED:20250127T155448Z
UID:2629-1737991800-1737997200@secondary.sd42.ca
SUMMARY:Grade 8 girls basketball game @ Meadowridge
DESCRIPTION:
URL:https://secondary.sd42.ca/srt/event/grade-8-girls-basketball-game-meadowridge/
END:VEVENT
END:VCALENDAR