BEGIN:VCALENDAR
VERSION:2.0
PRODID:-//SRT - ECPv6.15.14//NONSGML v1.0//EN
CALSCALE:GREGORIAN
METHOD:PUBLISH
X-ORIGINAL-URL:https://secondary.sd42.ca/srt
X-WR-CALDESC:Events for SRT
REFRESH-INTERVAL;VALUE=DURATION:PT1H
X-Robots-Tag:noindex
X-PUBLISHED-TTL:PT1H
BEGIN:VTIMEZONE
TZID:UTC
BEGIN:STANDARD
TZOFFSETFROM:+0000
TZOFFSETTO:+0000
TZNAME:UTC
DTSTART:20240101T000000
END:STANDARD
END:VTIMEZONE
BEGIN:VTIMEZONE
TZID:America/Los_Angeles
BEGIN:DAYLIGHT
TZOFFSETFROM:-0800
TZOFFSETTO:-0700
TZNAME:PDT
DTSTART:20240310T100000
END:DAYLIGHT
BEGIN:STANDARD
TZOFFSETFROM:-0700
TZOFFSETTO:-0800
TZNAME:PST
DTSTART:20241103T090000
END:STANDARD
BEGIN:DAYLIGHT
TZOFFSETFROM:-0800
TZOFFSETTO:-0700
TZNAME:PDT
DTSTART:20250309T100000
END:DAYLIGHT
BEGIN:STANDARD
TZOFFSETFROM:-0700
TZOFFSETTO:-0800
TZNAME:PST
DTSTART:20251102T090000
END:STANDARD
BEGIN:DAYLIGHT
TZOFFSETFROM:-0800
TZOFFSETTO:-0700
TZNAME:PDT
DTSTART:20260308T100000
END:DAYLIGHT
BEGIN:STANDARD
TZOFFSETFROM:-0700
TZOFFSETTO:-0800
TZNAME:PST
DTSTART:20261101T090000
END:STANDARD
END:VTIMEZONE
BEGIN:VEVENT
DTSTART;VALUE=DATE:20250124
DTEND;VALUE=DATE:20250125
DTSTAMP:20260420T140138
CREATED:20241107T022600Z
LAST-MODIFIED:20241107T022600Z
UID:1588-1737676800-1737763199@secondary.sd42.ca
SUMMARY:Day 4- FEHG
DESCRIPTION:Day 4- FEHG
URL:https://secondary.sd42.ca/srt/event/day-4-fehg-22/
END:VEVENT
BEGIN:VEVENT
DTSTART;VALUE=DATE:20250124
DTEND;VALUE=DATE:20250125
DTSTAMP:20260420T140138
CREATED:20241107T022600Z
LAST-MODIFIED:20241107T022600Z
UID:1589-1737676800-1737763199@secondary.sd42.ca
SUMMARY:Literacy 10 Assessment - Library closed
DESCRIPTION:Literacy 10 Assessment
URL:https://secondary.sd42.ca/srt/event/literacy-10-assessment-library-closed-10/
END:VEVENT
BEGIN:VEVENT
DTSTART;TZID=America/Los_Angeles:20250124T094300
DTEND;TZID=America/Los_Angeles:20250124T102300
DTSTAMP:20260420T140138
CREATED:20250124T164312Z
LAST-MODIFIED:20250124T164322Z
UID:2622-1737711780-1737714180@secondary.sd42.ca
SUMMARY:International students you are invited to see our departing friends off @2055
DESCRIPTION:
URL:https://secondary.sd42.ca/srt/event/international-students-you-are-invited-to-see-our-departing-friends-off/
END:VEVENT
END:VCALENDAR