BEGIN:VCALENDAR
VERSION:2.0
PRODID:-//SRT - ECPv6.15.14//NONSGML v1.0//EN
CALSCALE:GREGORIAN
METHOD:PUBLISH
X-WR-CALNAME:SRT
X-ORIGINAL-URL:https://secondary.sd42.ca/srt
X-WR-CALDESC:Events for SRT
REFRESH-INTERVAL;VALUE=DURATION:PT1H
X-Robots-Tag:noindex
X-PUBLISHED-TTL:PT1H
BEGIN:VTIMEZONE
TZID:UTC
BEGIN:STANDARD
TZOFFSETFROM:+0000
TZOFFSETTO:+0000
TZNAME:UTC
DTSTART:20240101T000000
END:STANDARD
END:VTIMEZONE
BEGIN:VTIMEZONE
TZID:America/Los_Angeles
BEGIN:DAYLIGHT
TZOFFSETFROM:-0800
TZOFFSETTO:-0700
TZNAME:PDT
DTSTART:20240310T100000
END:DAYLIGHT
BEGIN:STANDARD
TZOFFSETFROM:-0700
TZOFFSETTO:-0800
TZNAME:PST
DTSTART:20241103T090000
END:STANDARD
BEGIN:DAYLIGHT
TZOFFSETFROM:-0800
TZOFFSETTO:-0700
TZNAME:PDT
DTSTART:20250309T100000
END:DAYLIGHT
BEGIN:STANDARD
TZOFFSETFROM:-0700
TZOFFSETTO:-0800
TZNAME:PST
DTSTART:20251102T090000
END:STANDARD
BEGIN:DAYLIGHT
TZOFFSETFROM:-0800
TZOFFSETTO:-0700
TZNAME:PDT
DTSTART:20260308T100000
END:DAYLIGHT
BEGIN:STANDARD
TZOFFSETFROM:-0700
TZOFFSETTO:-0800
TZNAME:PST
DTSTART:20261101T090000
END:STANDARD
END:VTIMEZONE
BEGIN:VEVENT
DTSTART;VALUE=DATE:20250123
DTEND;VALUE=DATE:20250124
DTSTAMP:20260420T135627
CREATED:20241107T022537Z
LAST-MODIFIED:20241107T022537Z
UID:1586-1737590400-1737676799@secondary.sd42.ca
SUMMARY:Day 4- FEHG
DESCRIPTION:Day 4- FEHG
URL:https://secondary.sd42.ca/srt/event/day-4-fehg-21/
END:VEVENT
BEGIN:VEVENT
DTSTART;VALUE=DATE:20250123
DTEND;VALUE=DATE:20250124
DTSTAMP:20260420T135627
CREATED:20241107T022559Z
LAST-MODIFIED:20241107T022559Z
UID:1587-1737590400-1737676799@secondary.sd42.ca
SUMMARY:Literacy 10 Assessment - Library closed
DESCRIPTION:Literacy 10 Assessment
URL:https://secondary.sd42.ca/srt/event/literacy-10-assessment-library-closed-9/
END:VEVENT
BEGIN:VEVENT
DTSTART;TZID=UTC:20250123T054500
DTEND;TZID=UTC:20250123T183000
DTSTAMP:20260420T135627
CREATED:20241107T055654Z
LAST-MODIFIED:20241219T165815Z
UID:1751-1737611100-1737657000@secondary.sd42.ca
SUMMARY:Whistler Blackcomb Ski & Snowboard Trip
DESCRIPTION:5:45 AM: Meet at Samuel Robertson Tech for bus departure.\nAll Day: Enjoy guided skiing or snowboarding with experienced instructors.\n11:15 AM – 12:00 PM: Enjoy a hot buffet lunch at Base 2.\n3:00PM: Return to Base 2 with guides to prepare for departure.\n3:30PM: Chartered bus leaves Base 2\n6:30 PM: Return to Samuel Robertson Tech.
URL:https://secondary.sd42.ca/srt/event/whistler-blackcomb-ski-snowboard-trip/
END:VEVENT
BEGIN:VEVENT
DTSTART;TZID=America/Los_Angeles:20250123T144500
DTEND;TZID=America/Los_Angeles:20250123T160000
DTSTAMP:20260420T135627
CREATED:20250120T184117Z
LAST-MODIFIED:20250122T182708Z
UID:2596-1737643500-1737648000@secondary.sd42.ca
SUMMARY:Dwarves\, Heidi and Announcer practice @ Drama room (1245)
DESCRIPTION:
URL:https://secondary.sd42.ca/srt/event/dwarves-heidi-and-announcer-practice-drama-room-1245/
END:VEVENT
BEGIN:VEVENT
DTSTART;TZID=America/Los_Angeles:20250123T153000
DTEND;TZID=America/Los_Angeles:20250123T170000
DTSTAMP:20260420T135627
CREATED:20241211T215205Z
LAST-MODIFIED:20241211T215205Z
UID:2389-1737646200-1737651600@secondary.sd42.ca
SUMMARY:Grade 8 boys basketball game @WSS
DESCRIPTION:
URL:https://secondary.sd42.ca/srt/event/grade-8-boys-basketball-game-wss/
END:VEVENT
BEGIN:VEVENT
DTSTART;TZID=America/Los_Angeles:20250123T153000
DTEND;TZID=America/Los_Angeles:20250123T170000
DTSTAMP:20260420T135627
CREATED:20241211T215349Z
LAST-MODIFIED:20241211T215349Z
UID:2395-1737646200-1737651600@secondary.sd42.ca
SUMMARY:Grade 8 girls basketball game vs PMSS
DESCRIPTION:
URL:https://secondary.sd42.ca/srt/event/grade-8-girls-basketball-game-vs-pmss/
END:VEVENT
BEGIN:VEVENT
DTSTART;TZID=America/Los_Angeles:20250123T173000
DTEND;TZID=America/Los_Angeles:20250123T190000
DTSTAMP:20260420T135627
CREATED:20241211T215702Z
LAST-MODIFIED:20241212T202932Z
UID:2407-1737653400-1737658800@secondary.sd42.ca
SUMMARY:Jr boys basketball game @WSS
DESCRIPTION:
URL:https://secondary.sd42.ca/srt/event/jr-boys-basketball-game-wss/
END:VEVENT
BEGIN:VEVENT
DTSTART;TZID=America/Los_Angeles:20250123T173000
DTEND;TZID=America/Los_Angeles:20250123T190000
DTSTAMP:20260420T135627
CREATED:20241211T215911Z
LAST-MODIFIED:20241212T202750Z
UID:2417-1737653400-1737658800@secondary.sd42.ca
SUMMARY:Jr girls basketball game vs WSS
DESCRIPTION:
URL:https://secondary.sd42.ca/srt/event/jr-girls-basketball-game-vs-wss/
END:VEVENT
BEGIN:VEVENT
DTSTART;TZID=America/Los_Angeles:20250123T183000
DTEND;TZID=America/Los_Angeles:20250123T200000
DTSTAMP:20260420T135627
CREATED:20241211T220044Z
LAST-MODIFIED:20241211T220044Z
UID:2423-1737657000-1737662400@secondary.sd42.ca
SUMMARY:Sr boys basketball game vs PMSS
DESCRIPTION:
URL:https://secondary.sd42.ca/srt/event/sr-boys-basketball-game-vs-pmss/
END:VEVENT
END:VCALENDAR