BEGIN:VCALENDAR
VERSION:2.0
PRODID:-//SRT - ECPv6.15.14//NONSGML v1.0//EN
CALSCALE:GREGORIAN
METHOD:PUBLISH
X-ORIGINAL-URL:https://secondary.sd42.ca/srt
X-WR-CALDESC:Events for SRT
REFRESH-INTERVAL;VALUE=DURATION:PT1H
X-Robots-Tag:noindex
X-PUBLISHED-TTL:PT1H
BEGIN:VTIMEZONE
TZID:UTC
BEGIN:STANDARD
TZOFFSETFROM:+0000
TZOFFSETTO:+0000
TZNAME:UTC
DTSTART:20240101T000000
END:STANDARD
END:VTIMEZONE
BEGIN:VTIMEZONE
TZID:America/Los_Angeles
BEGIN:DAYLIGHT
TZOFFSETFROM:-0800
TZOFFSETTO:-0700
TZNAME:PDT
DTSTART:20240310T100000
END:DAYLIGHT
BEGIN:STANDARD
TZOFFSETFROM:-0700
TZOFFSETTO:-0800
TZNAME:PST
DTSTART:20241103T090000
END:STANDARD
BEGIN:DAYLIGHT
TZOFFSETFROM:-0800
TZOFFSETTO:-0700
TZNAME:PDT
DTSTART:20250309T100000
END:DAYLIGHT
BEGIN:STANDARD
TZOFFSETFROM:-0700
TZOFFSETTO:-0800
TZNAME:PST
DTSTART:20251102T090000
END:STANDARD
BEGIN:DAYLIGHT
TZOFFSETFROM:-0800
TZOFFSETTO:-0700
TZNAME:PDT
DTSTART:20260308T100000
END:DAYLIGHT
BEGIN:STANDARD
TZOFFSETFROM:-0700
TZOFFSETTO:-0800
TZNAME:PST
DTSTART:20261101T090000
END:STANDARD
END:VTIMEZONE
BEGIN:VEVENT
DTSTART;VALUE=DATE:20250121
DTEND;VALUE=DATE:20250122
DTSTAMP:20260420T215259
CREATED:20241107T022535Z
LAST-MODIFIED:20241107T022535Z
UID:1582-1737417600-1737503999@secondary.sd42.ca
SUMMARY:Day 2- EFGH
DESCRIPTION:Day 2- EFGH
URL:https://secondary.sd42.ca/srt/event/day-2-efgh-21/
END:VEVENT
BEGIN:VEVENT
DTSTART;VALUE=DATE:20250121
DTEND;VALUE=DATE:20250122
DTSTAMP:20260420T215259
CREATED:20241107T022535Z
LAST-MODIFIED:20241107T022535Z
UID:1583-1737417600-1737503999@secondary.sd42.ca
SUMMARY:Literacy 10 Assessment - Library closed
DESCRIPTION:Literacy 10 Assessment
URL:https://secondary.sd42.ca/srt/event/literacy-10-assessment-library-closed-7/
END:VEVENT
BEGIN:VEVENT
DTSTART;TZID=America/Los_Angeles:20250121T094300
DTEND;TZID=America/Los_Angeles:20250121T102300
DTSTAMP:20260420T215259
CREATED:20250120T184213Z
LAST-MODIFIED:20250120T184213Z
UID:2598-1737452580-1737454980@secondary.sd42.ca
SUMMARY:Nevada Arizona meeting @ room 2125
DESCRIPTION:
URL:https://secondary.sd42.ca/srt/event/nevada-arizona-meeting-room-2125/
END:VEVENT
BEGIN:VEVENT
DTSTART;TZID=America/Los_Angeles:20250121T144500
DTEND;TZID=America/Los_Angeles:20250121T160000
DTSTAMP:20260420T215259
CREATED:20250108T165551Z
LAST-MODIFIED:20250121T224040Z
UID:2560-1737470700-1737475200@secondary.sd42.ca
SUMMARY:Table Tennis in Cafeteria CANCELLED
DESCRIPTION:
URL:https://secondary.sd42.ca/srt/event/table-tennis-in-cafeteria-7/
END:VEVENT
BEGIN:VEVENT
DTSTART;TZID=America/Los_Angeles:20250121T153000
DTEND;TZID=America/Los_Angeles:20250121T170000
DTSTAMP:20260420T215259
CREATED:20241211T215325Z
LAST-MODIFIED:20241211T215325Z
UID:2393-1737473400-1737478800@secondary.sd42.ca
SUMMARY:Grade 8 girls basketball game vs Meadowridge
DESCRIPTION:
URL:https://secondary.sd42.ca/srt/event/grade-8-girls-basketball-game-vs-meadowridge/
END:VEVENT
END:VCALENDAR