BEGIN:VCALENDAR
VERSION:2.0
PRODID:-//SRT - ECPv6.15.14//NONSGML v1.0//EN
CALSCALE:GREGORIAN
METHOD:PUBLISH
X-ORIGINAL-URL:https://secondary.sd42.ca/srt
X-WR-CALDESC:Events for SRT
REFRESH-INTERVAL;VALUE=DURATION:PT1H
X-Robots-Tag:noindex
X-PUBLISHED-TTL:PT1H
BEGIN:VTIMEZONE
TZID:UTC
BEGIN:STANDARD
TZOFFSETFROM:+0000
TZOFFSETTO:+0000
TZNAME:UTC
DTSTART:20240101T000000
END:STANDARD
END:VTIMEZONE
BEGIN:VEVENT
DTSTART;VALUE=DATE:20250110
DTEND;VALUE=DATE:20250111
DTSTAMP:20260420T140138
CREATED:20241107T022115Z
LAST-MODIFIED:20241107T022115Z
UID:1568-1736467200-1736553599@secondary.sd42.ca
SUMMARY:Day 2- EFGH
DESCRIPTION:Day 2- EFGH
URL:https://secondary.sd42.ca/srt/event/day-2-efgh-19/
END:VEVENT
BEGIN:VEVENT
DTSTART;TZID=UTC:20250110T095000
DTEND;TZID=UTC:20250110T095000
DTSTAMP:20260420T140138
CREATED:20241107T022115Z
LAST-MODIFIED:20241109T061629Z
UID:1569-1736502600-1736502600@secondary.sd42.ca
SUMMARY:Collaboration Day #3 - Late Start 950AM
DESCRIPTION:Collaboration Day #3 – Late Start 950AM
URL:https://secondary.sd42.ca/srt/event/collaboration-day-3-late-start-950am/
END:VEVENT
END:VCALENDAR