BEGIN:VCALENDAR
VERSION:2.0
PRODID:-//SRT - ECPv6.15.14//NONSGML v1.0//EN
CALSCALE:GREGORIAN
METHOD:PUBLISH
X-ORIGINAL-URL:https://secondary.sd42.ca/srt
X-WR-CALDESC:Events for SRT
REFRESH-INTERVAL;VALUE=DURATION:PT1H
X-Robots-Tag:noindex
X-PUBLISHED-TTL:PT1H
BEGIN:VTIMEZONE
TZID:UTC
BEGIN:STANDARD
TZOFFSETFROM:+0000
TZOFFSETTO:+0000
TZNAME:UTC
DTSTART:20240101T000000
END:STANDARD
END:VTIMEZONE
BEGIN:VTIMEZONE
TZID:America/Los_Angeles
BEGIN:DAYLIGHT
TZOFFSETFROM:-0800
TZOFFSETTO:-0700
TZNAME:PDT
DTSTART:20240310T100000
END:DAYLIGHT
BEGIN:STANDARD
TZOFFSETFROM:-0700
TZOFFSETTO:-0800
TZNAME:PST
DTSTART:20241103T090000
END:STANDARD
BEGIN:DAYLIGHT
TZOFFSETFROM:-0800
TZOFFSETTO:-0700
TZNAME:PDT
DTSTART:20250309T100000
END:DAYLIGHT
BEGIN:STANDARD
TZOFFSETFROM:-0700
TZOFFSETTO:-0800
TZNAME:PST
DTSTART:20251102T090000
END:STANDARD
BEGIN:DAYLIGHT
TZOFFSETFROM:-0800
TZOFFSETTO:-0700
TZNAME:PDT
DTSTART:20260308T100000
END:DAYLIGHT
BEGIN:STANDARD
TZOFFSETFROM:-0700
TZOFFSETTO:-0800
TZNAME:PST
DTSTART:20261101T090000
END:STANDARD
END:VTIMEZONE
BEGIN:VEVENT
DTSTART;VALUE=DATE:20250109
DTEND;VALUE=DATE:20250110
DTSTAMP:20260420T140210
CREATED:20241107T022112Z
LAST-MODIFIED:20241107T022112Z
UID:1565-1736380800-1736467199@secondary.sd42.ca
SUMMARY:Day 4- FEHG
DESCRIPTION:Day 4- FEHG
URL:https://secondary.sd42.ca/srt/event/day-4-fehg-19/
END:VEVENT
BEGIN:VEVENT
DTSTART;TZID=America/Los_Angeles:20250109T153000
DTEND;TZID=America/Los_Angeles:20250109T170000
DTSTAMP:20260420T140210
CREATED:20241211T215050Z
LAST-MODIFIED:20241211T215050Z
UID:2383-1736436600-1736442000@secondary.sd42.ca
SUMMARY:Grade 8 boys basketball game @MRSS
DESCRIPTION:
URL:https://secondary.sd42.ca/srt/event/grade-8-boys-basketball-game-mrss/
END:VEVENT
BEGIN:VEVENT
DTSTART;TZID=America/Los_Angeles:20250109T153000
DTEND;TZID=America/Los_Angeles:20250109T170000
DTSTAMP:20260420T140210
CREATED:20241211T215303Z
LAST-MODIFIED:20250107T160811Z
UID:2391-1736436600-1736442000@secondary.sd42.ca
SUMMARY:Grade 8 girls basketball game vs MRSS will be rescheduled TBA
DESCRIPTION:
URL:https://secondary.sd42.ca/srt/event/grade-8-girls-basketball-game-vs-mrss/
END:VEVENT
BEGIN:VEVENT
DTSTART;TZID=UTC:20250109T154500
DTEND;TZID=UTC:20250109T180000
DTSTAMP:20260420T140210
CREATED:20241107T022114Z
LAST-MODIFIED:20250107T164842Z
UID:1567-1736437500-1736445600@secondary.sd42.ca
SUMMARY:Grad Photo Retakes @ Library and Photography Room
DESCRIPTION:Grad Photo Retakes (evening only)
URL:https://secondary.sd42.ca/srt/event/grad-photo-retakes-evening-only/
END:VEVENT
BEGIN:VEVENT
DTSTART;TZID=America/Los_Angeles:20250109T173000
DTEND;TZID=America/Los_Angeles:20250109T190000
DTSTAMP:20260420T140210
CREATED:20241211T215546Z
LAST-MODIFIED:20250107T160904Z
UID:2401-1736443800-1736449200@secondary.sd42.ca
SUMMARY:Jr boys basketball game @MRSS will be rescheduled TBA
DESCRIPTION:
URL:https://secondary.sd42.ca/srt/event/jr-boys-basketball-game-mrss/
END:VEVENT
BEGIN:VEVENT
DTSTART;TZID=America/Los_Angeles:20250109T173000
DTEND;TZID=America/Los_Angeles:20250109T190000
DTSTAMP:20260420T140210
CREATED:20241211T215800Z
LAST-MODIFIED:20250107T160702Z
UID:2411-1736443800-1736449200@secondary.sd42.ca
SUMMARY:Jr girls basketball game vs MRSS
DESCRIPTION:
URL:https://secondary.sd42.ca/srt/event/jr-girls-basketball-game-vs-mrss/
END:VEVENT
END:VCALENDAR