BEGIN:VCALENDAR
VERSION:2.0
PRODID:-//SRT - ECPv6.15.14//NONSGML v1.0//EN
CALSCALE:GREGORIAN
METHOD:PUBLISH
X-WR-CALNAME:SRT
X-ORIGINAL-URL:https://secondary.sd42.ca/srt
X-WR-CALDESC:Events for SRT
REFRESH-INTERVAL;VALUE=DURATION:PT1H
X-Robots-Tag:noindex
X-PUBLISHED-TTL:PT1H
BEGIN:VTIMEZONE
TZID:UTC
BEGIN:STANDARD
TZOFFSETFROM:+0000
TZOFFSETTO:+0000
TZNAME:UTC
DTSTART:20240101T000000
END:STANDARD
END:VTIMEZONE
BEGIN:VTIMEZONE
TZID:America/Los_Angeles
BEGIN:DAYLIGHT
TZOFFSETFROM:-0800
TZOFFSETTO:-0700
TZNAME:PDT
DTSTART:20240310T100000
END:DAYLIGHT
BEGIN:STANDARD
TZOFFSETFROM:-0700
TZOFFSETTO:-0800
TZNAME:PST
DTSTART:20241103T090000
END:STANDARD
BEGIN:DAYLIGHT
TZOFFSETFROM:-0800
TZOFFSETTO:-0700
TZNAME:PDT
DTSTART:20250309T100000
END:DAYLIGHT
BEGIN:STANDARD
TZOFFSETFROM:-0700
TZOFFSETTO:-0800
TZNAME:PST
DTSTART:20251102T090000
END:STANDARD
BEGIN:DAYLIGHT
TZOFFSETFROM:-0800
TZOFFSETTO:-0700
TZNAME:PDT
DTSTART:20260308T100000
END:DAYLIGHT
BEGIN:STANDARD
TZOFFSETFROM:-0700
TZOFFSETTO:-0800
TZNAME:PST
DTSTART:20261101T090000
END:STANDARD
END:VTIMEZONE
BEGIN:VEVENT
DTSTART;VALUE=DATE:20250108
DTEND;VALUE=DATE:20250109
DTSTAMP:20260420T215225
CREATED:20241107T022112Z
LAST-MODIFIED:20241107T022112Z
UID:1564-1736294400-1736380799@secondary.sd42.ca
SUMMARY:Day 3- BADC
DESCRIPTION:Day 3- BADC
URL:https://secondary.sd42.ca/srt/event/day-3-badc-19/
END:VEVENT
BEGIN:VEVENT
DTSTART;TZID=America/Los_Angeles:20250108T113600
DTEND;TZID=America/Los_Angeles:20250108T121900
DTSTAMP:20260420T215225
CREATED:20250106T180317Z
LAST-MODIFIED:20250106T180332Z
UID:2536-1736336160-1736338740@secondary.sd42.ca
SUMMARY:Winter Formal tickets on sale for Grade 11 & 12's
DESCRIPTION:Hey seniors! Winter Formal will take place next Thursday\, January 16th at 6pm. Join us for a wonderful dinner\, dancing\, karaoke\, and games. Tickets will go on sale for Grade 12s only tomorrow at lunch. Starting Wednesday\, tickets will be open to all grade 11s and 12s. Tickets are $20\, cash only. Make sure you get yours!
URL:https://secondary.sd42.ca/srt/event/winter-formal-tickets-on-sale-for-grade-11-12s/
END:VEVENT
END:VCALENDAR