BEGIN:VCALENDAR
VERSION:2.0
PRODID:-//SRT - ECPv6.15.14//NONSGML v1.0//EN
CALSCALE:GREGORIAN
METHOD:PUBLISH
X-WR-CALNAME:SRT
X-ORIGINAL-URL:https://secondary.sd42.ca/srt
X-WR-CALDESC:Events for SRT
REFRESH-INTERVAL;VALUE=DURATION:PT1H
X-Robots-Tag:noindex
X-PUBLISHED-TTL:PT1H
BEGIN:VTIMEZONE
TZID:UTC
BEGIN:STANDARD
TZOFFSETFROM:+0000
TZOFFSETTO:+0000
TZNAME:UTC
DTSTART:20240101T000000
END:STANDARD
END:VTIMEZONE
BEGIN:VEVENT
DTSTART;VALUE=DATE:20250106
DTEND;VALUE=DATE:20250107
DTSTAMP:20260420T215224
CREATED:20241016T064105Z
LAST-MODIFIED:20241016T064105Z
UID:984-1736121600-1736207999@secondary.sd42.ca
SUMMARY:School reopens after winter break
DESCRIPTION:School reopens after break.
URL:https://secondary.sd42.ca/srt/event/school-reopens-after-winter-break-2/
END:VEVENT
BEGIN:VEVENT
DTSTART;VALUE=DATE:20250106
DTEND;VALUE=DATE:20250107
DTSTAMP:20260420T215224
CREATED:20241107T022111Z
LAST-MODIFIED:20241107T022111Z
UID:1562-1736121600-1736207999@secondary.sd42.ca
SUMMARY:Day 1- ABCD
DESCRIPTION:Day 1- ABCD
URL:https://secondary.sd42.ca/srt/event/day-1-abcd-19/
END:VEVENT
END:VCALENDAR