BEGIN:VCALENDAR
VERSION:2.0
PRODID:-//PMSS - ECPv6.15.14//NONSGML v1.0//EN
CALSCALE:GREGORIAN
METHOD:PUBLISH
X-WR-CALNAME:PMSS
X-ORIGINAL-URL:https://secondary.sd42.ca/pmss
X-WR-CALDESC:Events for PMSS
REFRESH-INTERVAL;VALUE=DURATION:PT1H
X-Robots-Tag:noindex
X-PUBLISHED-TTL:PT1H
BEGIN:VTIMEZONE
TZID:UTC
BEGIN:STANDARD
TZOFFSETFROM:+0000
TZOFFSETTO:+0000
TZNAME:UTC
DTSTART:20210101T000000
END:STANDARD
END:VTIMEZONE
BEGIN:VEVENT
DTSTART;VALUE=DATE:20220622
DTEND;VALUE=DATE:20220623
DTSTAMP:20260422T092724
CREATED:20220208T034205Z
LAST-MODIFIED:20220208T034205Z
UID:7380-1655856000-1655942399@secondary.sd42.ca
SUMMARY:Continuous Learning Day
DESCRIPTION:
URL:https://secondary.sd42.ca/pmss/event/continuous-learning-day/
CATEGORIES:school calendar
END:VEVENT
END:VCALENDAR