BEGIN:VCALENDAR
VERSION:2.0
PRODID:-//PMSS - ECPv6.15.14//NONSGML v1.0//EN
CALSCALE:GREGORIAN
METHOD:PUBLISH
X-WR-CALNAME:PMSS
X-ORIGINAL-URL:https://secondary.sd42.ca/pmss
X-WR-CALDESC:Events for PMSS
REFRESH-INTERVAL;VALUE=DURATION:PT1H
X-Robots-Tag:noindex
X-PUBLISHED-TTL:PT1H
BEGIN:VTIMEZONE
TZID:UTC
BEGIN:STANDARD
TZOFFSETFROM:+0000
TZOFFSETTO:+0000
TZNAME:UTC
DTSTART:20210101T000000
END:STANDARD
END:VTIMEZONE
BEGIN:VEVENT
DTSTART;TZID=UTC:20220603T095000
DTEND;TZID=UTC:20220603T095000
DTSTAMP:20260421T121245
CREATED:20220208T033814Z
LAST-MODIFIED:20220208T033814Z
UID:7368-1654249800-1654249800@secondary.sd42.ca
SUMMARY:Late Start - 9:50am Collaboration Day
DESCRIPTION:
URL:https://secondary.sd42.ca/pmss/event/late-start-950am-collaboration-day-2/
CATEGORIES:school calendar
END:VEVENT
BEGIN:VEVENT
DTSTART;VALUE=DATE:20220613
DTEND;VALUE=DATE:20220618
DTSTAMP:20260421T121245
CREATED:20220208T033903Z
LAST-MODIFIED:20220208T033903Z
UID:7370-1655078400-1655510399@secondary.sd42.ca
SUMMARY:Assessment Week
DESCRIPTION:Assessment week: Literacy 10\, Numeracy 10\, Literacy 12
URL:https://secondary.sd42.ca/pmss/event/assessment-week/
CATEGORIES:school calendar
END:VEVENT
BEGIN:VEVENT
DTSTART;TZID=UTC:20220620T090000
DTEND;TZID=UTC:20220620T090000
DTSTAMP:20260421T121245
CREATED:20220208T034048Z
LAST-MODIFIED:20220208T034048Z
UID:7374-1655715600-1655715600@secondary.sd42.ca
SUMMARY:Sem 2 Final Marks Due 9:00am
DESCRIPTION:
URL:https://secondary.sd42.ca/pmss/event/sem-2-final-marks-due-900am/
CATEGORIES:school calendar
END:VEVENT
BEGIN:VEVENT
DTSTART;VALUE=DATE:20220621
DTEND;VALUE=DATE:20220622
DTSTAMP:20260421T121245
CREATED:20220208T034121Z
LAST-MODIFIED:20220208T034121Z
UID:7376-1655769600-1655855999@secondary.sd42.ca
SUMMARY:End of Grade 8 Rotation #5
DESCRIPTION:
URL:https://secondary.sd42.ca/pmss/event/end-of-grade-8-rotation-5/
CATEGORIES:school calendar
END:VEVENT
BEGIN:VEVENT
DTSTART;VALUE=DATE:20220621
DTEND;VALUE=DATE:20220622
DTSTAMP:20260421T121245
CREATED:20220208T034142Z
LAST-MODIFIED:20220208T034142Z
UID:7378-1655769600-1655855999@secondary.sd42.ca
SUMMARY:Last Day Formal Classes
DESCRIPTION:
URL:https://secondary.sd42.ca/pmss/event/last-day-formal-classes/
CATEGORIES:school calendar
END:VEVENT
BEGIN:VEVENT
DTSTART;VALUE=DATE:20220622
DTEND;VALUE=DATE:20220623
DTSTAMP:20260421T121245
CREATED:20220208T034205Z
LAST-MODIFIED:20220208T034205Z
UID:7380-1655856000-1655942399@secondary.sd42.ca
SUMMARY:Continuous Learning Day
DESCRIPTION:
URL:https://secondary.sd42.ca/pmss/event/continuous-learning-day/
CATEGORIES:school calendar
END:VEVENT
BEGIN:VEVENT
DTSTART;VALUE=DATE:20220623
DTEND;VALUE=DATE:20220624
DTSTAMP:20260421T121245
CREATED:20220208T034233Z
LAST-MODIFIED:20220208T034233Z
UID:7382-1655942400-1656028799@secondary.sd42.ca
SUMMARY:Sem 2 Final Report Cards Published
DESCRIPTION:
URL:https://secondary.sd42.ca/pmss/event/sem-2-final-report-cards-published/
CATEGORIES:school calendar
END:VEVENT
END:VCALENDAR