BEGIN:VCALENDAR
VERSION:2.0
PRODID:-//PMSS - ECPv6.15.14//NONSGML v1.0//EN
CALSCALE:GREGORIAN
METHOD:PUBLISH
X-WR-CALNAME:PMSS
X-ORIGINAL-URL:https://secondary.sd42.ca/pmss
X-WR-CALDESC:Events for PMSS
REFRESH-INTERVAL;VALUE=DURATION:PT1H
X-Robots-Tag:noindex
X-PUBLISHED-TTL:PT1H
BEGIN:VTIMEZONE
TZID:UTC
BEGIN:STANDARD
TZOFFSETFROM:+0000
TZOFFSETTO:+0000
TZNAME:UTC
DTSTART:20220101T000000
END:STANDARD
END:VTIMEZONE
BEGIN:VEVENT
DTSTART;VALUE=DATE:20230310
DTEND;VALUE=DATE:20230311
DTSTAMP:20260421T121108
CREATED:20220601T005855Z
LAST-MODIFIED:20220601T005855Z
UID:7824-1678406400-1678492799@secondary.sd42.ca
SUMMARY:Last day of school before break
DESCRIPTION:Last day of school before break.
URL:https://secondary.sd42.ca/pmss/event/last-day-of-school-before-break/
CATEGORIES:district calendar
END:VEVENT
BEGIN:VEVENT
DTSTART;VALUE=DATE:20230313
DTEND;VALUE=DATE:20230318
DTSTAMP:20260421T121108
CREATED:20220601T005909Z
LAST-MODIFIED:20220601T005909Z
UID:7825-1678665600-1679097599@secondary.sd42.ca
SUMMARY:School not in session
DESCRIPTION:School not in session.
URL:https://secondary.sd42.ca/pmss/event/school-not-in-session-2/
CATEGORIES:district calendar
END:VEVENT
BEGIN:VEVENT
DTSTART;VALUE=DATE:20230320
DTEND;VALUE=DATE:20230325
DTSTAMP:20260421T121108
CREATED:20220601T005909Z
LAST-MODIFIED:20220601T005909Z
UID:7826-1679270400-1679702399@secondary.sd42.ca
SUMMARY:Spring break
DESCRIPTION:School closed for spring break
URL:https://secondary.sd42.ca/pmss/event/spring-break-2/
CATEGORIES:district calendar
END:VEVENT
BEGIN:VEVENT
DTSTART;VALUE=DATE:20230327
DTEND;VALUE=DATE:20230328
DTSTAMP:20260421T121108
CREATED:20220601T005910Z
LAST-MODIFIED:20220601T005910Z
UID:7827-1679875200-1679961599@secondary.sd42.ca
SUMMARY:School reopens after break
DESCRIPTION:School reopens after break.
URL:https://secondary.sd42.ca/pmss/event/school-reopens-after-break-2/
CATEGORIES:district calendar
END:VEVENT
END:VCALENDAR