BEGIN:VCALENDAR
VERSION:2.0
PRODID:-//PMSS - ECPv6.15.14//NONSGML v1.0//EN
CALSCALE:GREGORIAN
METHOD:PUBLISH
X-WR-CALNAME:PMSS
X-ORIGINAL-URL:https://secondary.sd42.ca/pmss
X-WR-CALDESC:Events for PMSS
REFRESH-INTERVAL;VALUE=DURATION:PT1H
X-Robots-Tag:noindex
X-PUBLISHED-TTL:PT1H
BEGIN:VTIMEZONE
TZID:UTC
BEGIN:STANDARD
TZOFFSETFROM:+0000
TZOFFSETTO:+0000
TZNAME:UTC
DTSTART:20220101T000000
END:STANDARD
END:VTIMEZONE
BEGIN:VEVENT
DTSTART;VALUE=DATE:20230102
DTEND;VALUE=DATE:20230103
DTSTAMP:20260425T141908
CREATED:20220601T005840Z
LAST-MODIFIED:20220601T005840Z
UID:7819-1672617600-1672703999@secondary.sd42.ca
SUMMARY:New Year's Day holiday
DESCRIPTION:School not in session.
URL:https://secondary.sd42.ca/pmss/event/new-years-day-holiday/
CATEGORIES:district calendar
END:VEVENT
BEGIN:VEVENT
DTSTART;VALUE=DATE:20230103
DTEND;VALUE=DATE:20230104
DTSTAMP:20260425T141908
CREATED:20220601T005854Z
LAST-MODIFIED:20220601T005854Z
UID:7820-1672704000-1672790399@secondary.sd42.ca
SUMMARY:School reopens after winter break
DESCRIPTION:School reopens after break.
URL:https://secondary.sd42.ca/pmss/event/school-reopens-after-winter-break-2/
CATEGORIES:district calendar
END:VEVENT
BEGIN:VEVENT
DTSTART;VALUE=DATE:20230123
DTEND;VALUE=DATE:20230124
DTSTAMP:20260425T141908
CREATED:20220601T005854Z
LAST-MODIFIED:20220601T005854Z
UID:7821-1674432000-1674518399@secondary.sd42.ca
SUMMARY:Non-instructional day (district-based)
DESCRIPTION:School not in session.
URL:https://secondary.sd42.ca/pmss/event/non-instructional-day-district-based-3/
CATEGORIES:district calendar
END:VEVENT
END:VCALENDAR